BEGIN:VCALENDAR
VERSION:2.0
PRODID:-//Canmore Camera Club - ECPv6.15.20//NONSGML v1.0//EN
CALSCALE:GREGORIAN
METHOD:PUBLISH
X-WR-CALNAME:Canmore Camera Club
X-ORIGINAL-URL:https://canmorecameraclub.com
X-WR-CALDESC:Events for Canmore Camera Club
REFRESH-INTERVAL;VALUE=DURATION:PT1H
X-Robots-Tag:noindex
X-PUBLISHED-TTL:PT1H
BEGIN:VTIMEZONE
TZID:America/Edmonton
BEGIN:DAYLIGHT
TZOFFSETFROM:-0700
TZOFFSETTO:-0600
TZNAME:MDT
DTSTART:20240310T090000
END:DAYLIGHT
BEGIN:STANDARD
TZOFFSETFROM:-0600
TZOFFSETTO:-0700
TZNAME:MST
DTSTART:20241103T080000
END:STANDARD
BEGIN:DAYLIGHT
TZOFFSETFROM:-0700
TZOFFSETTO:-0600
TZNAME:MDT
DTSTART:20250309T090000
END:DAYLIGHT
BEGIN:STANDARD
TZOFFSETFROM:-0600
TZOFFSETTO:-0700
TZNAME:MST
DTSTART:20251102T080000
END:STANDARD
BEGIN:DAYLIGHT
TZOFFSETFROM:-0700
TZOFFSETTO:-0600
TZNAME:MDT
DTSTART:20260308T090000
END:DAYLIGHT
BEGIN:STANDARD
TZOFFSETFROM:-0600
TZOFFSETTO:-0700
TZNAME:MST
DTSTART:20261101T080000
END:STANDARD
BEGIN:DAYLIGHT
TZOFFSETFROM:-0700
TZOFFSETTO:-0600
TZNAME:MDT
DTSTART:20270314T090000
END:DAYLIGHT
BEGIN:STANDARD
TZOFFSETFROM:-0600
TZOFFSETTO:-0700
TZNAME:MST
DTSTART:20271107T080000
END:STANDARD
END:VTIMEZONE
BEGIN:VEVENT
DTSTART;TZID=America/Edmonton:20260219T173000
DTEND;TZID=America/Edmonton:20260219T193000
DTSTAMP:20260422T230216
CREATED:20251217T223055Z
LAST-MODIFIED:20251217T224403Z
UID:1609-1771522200-1771529400@canmorecameraclub.com
SUMMARY:February monthly meeting 
DESCRIPTION:
URL:https://canmorecameraclub.com/event/february-monthly-meeting/
LOCATION:Elevation Place Library
CATEGORIES:Monthly meeting
END:VEVENT
BEGIN:VEVENT
DTSTART;TZID=America/Edmonton:20260116T173000
DTEND;TZID=America/Edmonton:20260116T193000
DTSTAMP:20260422T230216
CREATED:20251217T210052Z
LAST-MODIFIED:20260115T213443Z
UID:1599-1768584600-1768591800@canmorecameraclub.com
SUMMARY:January monthly meeting
DESCRIPTION:Agenda: \n1) Monthly Challenge – Minimalism (Gary et al.)\n2) Website (Goldberg)\n3) Membership (Cosgrove)\n4) ACCA Presentation (Nina)\n5) CAG Photo Show (Kevin)\n6) Aspect Ratios by Adam Gibbs (Stefan)\n7) Future Program Items (Stefan)\n8) Other Issues\n9) Special Presentation by Stefan Seifert – time permitting\n10) Next Challenge (February) – Tracks
URL:https://canmorecameraclub.com/event/january-monthly-meeting-elevation-place-library/
LOCATION:Elevation Place Library
CATEGORIES:Monthly meeting
END:VEVENT
BEGIN:VEVENT
DTSTART;TZID=America/Edmonton:20260112T140000
DTEND;TZID=America/Edmonton:20260112T160000
DTSTAMP:20260422T230216
CREATED:20251217T222426Z
LAST-MODIFIED:20260115T225616Z
UID:1606-1768226400-1768233600@canmorecameraclub.com
SUMMARY:Alberta Camera Club Alliance Zoom presentation by John Marriott
DESCRIPTION:John Marriot will present on “The Kootenay Wolves: Five Years Following a Wild Wolf Pack” \nContact ACCA to register or stay tuned for an email with the registration information.
URL:https://canmorecameraclub.com/event/alberta-camera-club-alliance-zoom-presentation-by-john-marriott/
LOCATION:Online presentation
CATEGORIES:Online presentation
END:VEVENT
BEGIN:VEVENT
DTSTART;TZID=America/Edmonton:20251218T173000
DTEND;TZID=America/Edmonton:20251218T193000
DTSTAMP:20260422T230216
CREATED:20251217T205933Z
LAST-MODIFIED:20251217T222851Z
UID:1596-1766079000-1766086200@canmorecameraclub.com
SUMMARY:December monthly meeting
DESCRIPTION:Agenda: \n\nGuest speaker Darren Collelo will give a presentation on Wildlife Photography\nHoliday season potluck party – snacks and appies!\nNo Monthly Challenge in December
URL:https://canmorecameraclub.com/event/december-monthly-meeting-elevation-place-library/
LOCATION:Elevation Place Library
CATEGORIES:Monthly meeting
END:VEVENT
END:VCALENDAR