BEGIN:VCALENDAR
VERSION:2.0
PRODID:-//Canmore Camera Club - ECPv6.15.20//NONSGML v1.0//EN
CALSCALE:GREGORIAN
METHOD:PUBLISH
X-WR-CALNAME:Canmore Camera Club
X-ORIGINAL-URL:https://canmorecameraclub.com
X-WR-CALDESC:Events for Canmore Camera Club
REFRESH-INTERVAL;VALUE=DURATION:PT1H
X-Robots-Tag:noindex
X-PUBLISHED-TTL:PT1H
BEGIN:VTIMEZONE
TZID:America/Edmonton
BEGIN:DAYLIGHT
TZOFFSETFROM:-0700
TZOFFSETTO:-0600
TZNAME:MDT
DTSTART:20240310T090000
END:DAYLIGHT
BEGIN:STANDARD
TZOFFSETFROM:-0600
TZOFFSETTO:-0700
TZNAME:MST
DTSTART:20241103T080000
END:STANDARD
BEGIN:DAYLIGHT
TZOFFSETFROM:-0700
TZOFFSETTO:-0600
TZNAME:MDT
DTSTART:20250309T090000
END:DAYLIGHT
BEGIN:STANDARD
TZOFFSETFROM:-0600
TZOFFSETTO:-0700
TZNAME:MST
DTSTART:20251102T080000
END:STANDARD
BEGIN:DAYLIGHT
TZOFFSETFROM:-0700
TZOFFSETTO:-0600
TZNAME:MDT
DTSTART:20260308T090000
END:DAYLIGHT
BEGIN:STANDARD
TZOFFSETFROM:-0600
TZOFFSETTO:-0700
TZNAME:MST
DTSTART:20261101T080000
END:STANDARD
END:VTIMEZONE
BEGIN:VEVENT
DTSTART;TZID=America/Edmonton:20251218T173000
DTEND;TZID=America/Edmonton:20251218T193000
DTSTAMP:20260423T020040
CREATED:20251217T205933Z
LAST-MODIFIED:20251217T222851Z
UID:1596-1766079000-1766086200@canmorecameraclub.com
SUMMARY:December monthly meeting
DESCRIPTION:Agenda: \n\nGuest speaker Darren Collelo will give a presentation on Wildlife Photography\nHoliday season potluck party – snacks and appies!\nNo Monthly Challenge in December
URL:https://canmorecameraclub.com/event/december-monthly-meeting-elevation-place-library/
LOCATION:Elevation Place Library
CATEGORIES:Monthly meeting
END:VEVENT
END:VCALENDAR